BEGIN:VCALENDAR
VERSION:2.0
PRODID:-//Club Montañero de Murcia - ECPv6.15.20//NONSGML v1.0//EN
CALSCALE:GREGORIAN
METHOD:PUBLISH
X-ORIGINAL-URL:https://clubmontanerodemurcia.com
X-WR-CALDESC:Eventos para Club Montañero de Murcia
REFRESH-INTERVAL;VALUE=DURATION:PT1H
X-Robots-Tag:noindex
X-PUBLISHED-TTL:PT1H
BEGIN:VTIMEZONE
TZID:Europe/Madrid
BEGIN:DAYLIGHT
TZOFFSETFROM:+0100
TZOFFSETTO:+0200
TZNAME:CEST
DTSTART:20240331T010000
END:DAYLIGHT
BEGIN:STANDARD
TZOFFSETFROM:+0200
TZOFFSETTO:+0100
TZNAME:CET
DTSTART:20241027T010000
END:STANDARD
BEGIN:DAYLIGHT
TZOFFSETFROM:+0100
TZOFFSETTO:+0200
TZNAME:CEST
DTSTART:20250330T010000
END:DAYLIGHT
BEGIN:STANDARD
TZOFFSETFROM:+0200
TZOFFSETTO:+0100
TZNAME:CET
DTSTART:20251026T010000
END:STANDARD
BEGIN:DAYLIGHT
TZOFFSETFROM:+0100
TZOFFSETTO:+0200
TZNAME:CEST
DTSTART:20260329T010000
END:DAYLIGHT
BEGIN:STANDARD
TZOFFSETFROM:+0200
TZOFFSETTO:+0100
TZNAME:CET
DTSTART:20261025T010000
END:STANDARD
END:VTIMEZONE
BEGIN:VEVENT
DTSTART;TZID=Europe/Madrid:20251115T093000
DTEND;TZID=Europe/Madrid:20251115T133000
DTSTAMP:20260425T204252
CREATED:20251028T111039Z
LAST-MODIFIED:20251028T114454Z
UID:14120-1763199000-1763213400@clubmontanerodemurcia.com
SUMMARY:Conoce y protege el ecosistema del río Segura
DESCRIPTION:Actividad de sensibilidad\, recogida de residuos y aprendizaje de nuestros entornos de ribera. Ecosistemas de gran valor medioambiental para disfrutar y aprender en familia. Horario de 9.30 a 13.30 h. Salida conjunta en autobús desde plaza del Ayuntamiento de Murcia. Inscripción https://forms.office.com/e/YE8bjpsBCD
URL:https://clubmontanerodemurcia.com/event/infantil-conoce-y-protege-el-ecosistema-del-rio-segura-3/
CATEGORIES:noticia
END:VEVENT
BEGIN:VEVENT
DTSTART;TZID=Europe/Madrid:20251129T093000
DTEND;TZID=Europe/Madrid:20251129T133000
DTSTAMP:20260425T204252
CREATED:20251028T105617Z
LAST-MODIFIED:20251028T114539Z
UID:14112-1764408600-1764423000@clubmontanerodemurcia.com
SUMMARY:Conoce y protege el ecosistema del río Segura
DESCRIPTION:Actividad de sensibilidad\, recogida de residuos y aprendizaje de nuestros entornos de ribera. Ecosistemas de gran valor medioambiental para disfrutar y aprender en familia. Horario de 9.30 a 13.30 h. Salida conjunta en autobús desde plaza del Ayuntamiento de Murcia. Inscripción https://forms.office.com/e/YE8bjpsBCD \n \n 
URL:https://clubmontanerodemurcia.com/event/infantil-conoce-y-protege-el-ecosistema-del-rio-segura/
CATEGORIES:noticia
END:VEVENT
END:VCALENDAR