BEGIN:VCALENDAR
VERSION:2.0
PRODID:-//Club Montañero de Murcia - ECPv6.15.20//NONSGML v1.0//EN
CALSCALE:GREGORIAN
METHOD:PUBLISH
X-WR-CALNAME:Club Montañero de Murcia
X-ORIGINAL-URL:https://clubmontanerodemurcia.com
X-WR-CALDESC:Eventos para Club Montañero de Murcia
REFRESH-INTERVAL;VALUE=DURATION:PT1H
X-Robots-Tag:noindex
X-PUBLISHED-TTL:PT1H
BEGIN:VTIMEZONE
TZID:Europe/Madrid
BEGIN:DAYLIGHT
TZOFFSETFROM:+0100
TZOFFSETTO:+0200
TZNAME:CEST
DTSTART:20240331T010000
END:DAYLIGHT
BEGIN:STANDARD
TZOFFSETFROM:+0200
TZOFFSETTO:+0100
TZNAME:CET
DTSTART:20241027T010000
END:STANDARD
BEGIN:DAYLIGHT
TZOFFSETFROM:+0100
TZOFFSETTO:+0200
TZNAME:CEST
DTSTART:20250330T010000
END:DAYLIGHT
BEGIN:STANDARD
TZOFFSETFROM:+0200
TZOFFSETTO:+0100
TZNAME:CET
DTSTART:20251026T010000
END:STANDARD
BEGIN:DAYLIGHT
TZOFFSETFROM:+0100
TZOFFSETTO:+0200
TZNAME:CEST
DTSTART:20260329T010000
END:DAYLIGHT
BEGIN:STANDARD
TZOFFSETFROM:+0200
TZOFFSETTO:+0100
TZNAME:CET
DTSTART:20261025T010000
END:STANDARD
END:VTIMEZONE
BEGIN:VEVENT
DTSTART;TZID=Europe/Madrid:20251213T093000
DTEND;TZID=Europe/Madrid:20251213T133000
DTSTAMP:20260425T190653
CREATED:20251028T110154Z
LAST-MODIFIED:20251028T114607Z
UID:14116-1765618200-1765632600@clubmontanerodemurcia.com
SUMMARY:Conoce y protege el ecosistema del río Segura
DESCRIPTION:Actividad de sensibilidad\, recogida de residuos y aprendizaje de nuestros entornos de ribera. Ecosistemas de gran valor medioambiental para disfrutar y aprender en familia. Horario de 9.30 a 13.30 h. Salida conjunta en autobús desde plaza del Ayuntamiento de Murcia. Inscripción https://forms.office.com/e/YE8bjpsBCD \n \n 
URL:https://clubmontanerodemurcia.com/event/infantil-conoce-y-protege-el-ecosistema-del-rio-segura-2/
CATEGORIES:noticia
END:VEVENT
BEGIN:VEVENT
DTSTART;TZID=Europe/Madrid:20251221T080000
DTEND;TZID=Europe/Madrid:20251221T130000
DTSTAMP:20260425T190653
CREATED:20211222T172247Z
LAST-MODIFIED:20251222T075503Z
UID:5694-1766304000-1766322000@clubmontanerodemurcia.com
SUMMARY:LOTERIA DE NAVIDAD 2025 - 13476 - ¡¡¡LA DE LOS MONTAÑEROS!!! - JUGAMOS ESTE NÚMERO LOS ÚLTIMOS 40 AÑOS
DESCRIPTION:Puntos de venta: \nDEPORTES NORTES – Calle Santa Isabel\, 5 – 30004 Murcia \nTALLER DE JUAN  «EL ZAPA» – Calle Magdalena – 30001 Murcia \nLIBRERÍA PAPELERÍA ELBAL – Calle Dalias\, 4 (Sta. Mª de Gracia) – 30009 Murcia \nEN LA SEDE DEL CLUB Y AVISANDO EN LAS ACTIVIDADES. \n  \n22 € cada décimo \n \n  \n 
URL:https://clubmontanerodemurcia.com/event/loteria-de-navidad-2021-la-de-los-montaneros/
CATEGORIES:noticia
END:VEVENT
END:VCALENDAR