BEGIN:VCALENDAR
VERSION:2.0
PRODID:-//Club Montañero de Murcia - ECPv6.15.20//NONSGML v1.0//EN
CALSCALE:GREGORIAN
METHOD:PUBLISH
X-WR-CALNAME:Club Montañero de Murcia
X-ORIGINAL-URL:https://clubmontanerodemurcia.com
X-WR-CALDESC:Eventos para Club Montañero de Murcia
REFRESH-INTERVAL;VALUE=DURATION:PT1H
X-Robots-Tag:noindex
X-PUBLISHED-TTL:PT1H
BEGIN:VTIMEZONE
TZID:Europe/Madrid
BEGIN:DAYLIGHT
TZOFFSETFROM:+0100
TZOFFSETTO:+0200
TZNAME:CEST
DTSTART:20250330T010000
END:DAYLIGHT
BEGIN:STANDARD
TZOFFSETFROM:+0200
TZOFFSETTO:+0100
TZNAME:CET
DTSTART:20251026T010000
END:STANDARD
BEGIN:DAYLIGHT
TZOFFSETFROM:+0100
TZOFFSETTO:+0200
TZNAME:CEST
DTSTART:20260329T010000
END:DAYLIGHT
BEGIN:STANDARD
TZOFFSETFROM:+0200
TZOFFSETTO:+0100
TZNAME:CET
DTSTART:20261025T010000
END:STANDARD
BEGIN:DAYLIGHT
TZOFFSETFROM:+0100
TZOFFSETTO:+0200
TZNAME:CEST
DTSTART:20270328T010000
END:DAYLIGHT
BEGIN:STANDARD
TZOFFSETFROM:+0200
TZOFFSETTO:+0100
TZNAME:CET
DTSTART:20271031T010000
END:STANDARD
END:VTIMEZONE
BEGIN:VEVENT
DTSTART;TZID=Europe/Madrid:20260101T090900
DTEND;TZID=Europe/Madrid:20260101T141400
DTSTAMP:20260425T174103
CREATED:20260129T170156Z
LAST-MODIFIED:20260209T092526Z
UID:15020-1767258540-1767276840@clubmontanerodemurcia.com
SUMMARY:SOLICITUD DE LICENCIA FEDERATIVA 2026 - "SOLO SOCIOS CMM"
DESCRIPTION:El club sólo tramitará las licencias de sus socios. Las licencias son anuales y tienen validez hasta el 31 de diciembre del año en curso. \nLa solicitud de la licencia al club se hace a través de los siguientes formularios web: \nSolicitar licencia FMRM \nSolicitar licencia FEDME \nTendrá que seleccionar el tipo de licencia (FMRM o FEDME)\, la modalidad y los posibles complementos. Por defecto se entregarán en FORMATO DIGITAL. Si se desea la tarjeta física debe marcarlo también y abonar el complemento de 2€. \nEl pago se realiza mediante tarjeta de crédito o transferencia bancaria (obligatorio adjuntar el justificante del pago). \n  \n \nDescargar pdf licencias 2026 \n 
URL:https://clubmontanerodemurcia.com/event/solicitud-de-licencia-federativa-2026-solo-socios-cmm/
CATEGORIES:noticia
END:VEVENT
END:VCALENDAR