BEGIN:VCALENDAR
VERSION:2.0
PRODID:-//Club Montañero de Murcia - ECPv6.15.20//NONSGML v1.0//EN
CALSCALE:GREGORIAN
METHOD:PUBLISH
X-WR-CALNAME:Club Montañero de Murcia
X-ORIGINAL-URL:https://clubmontanerodemurcia.com
X-WR-CALDESC:Eventos para Club Montañero de Murcia
REFRESH-INTERVAL;VALUE=DURATION:PT1H
X-Robots-Tag:noindex
X-PUBLISHED-TTL:PT1H
BEGIN:VTIMEZONE
TZID:Europe/Madrid
BEGIN:DAYLIGHT
TZOFFSETFROM:+0100
TZOFFSETTO:+0200
TZNAME:CEST
DTSTART:20250330T010000
END:DAYLIGHT
BEGIN:STANDARD
TZOFFSETFROM:+0200
TZOFFSETTO:+0100
TZNAME:CET
DTSTART:20251026T010000
END:STANDARD
BEGIN:DAYLIGHT
TZOFFSETFROM:+0100
TZOFFSETTO:+0200
TZNAME:CEST
DTSTART:20260329T010000
END:DAYLIGHT
BEGIN:STANDARD
TZOFFSETFROM:+0200
TZOFFSETTO:+0100
TZNAME:CET
DTSTART:20261025T010000
END:STANDARD
BEGIN:DAYLIGHT
TZOFFSETFROM:+0100
TZOFFSETTO:+0200
TZNAME:CEST
DTSTART:20270328T010000
END:DAYLIGHT
BEGIN:STANDARD
TZOFFSETFROM:+0200
TZOFFSETTO:+0100
TZNAME:CET
DTSTART:20271031T010000
END:STANDARD
END:VTIMEZONE
BEGIN:VEVENT
DTSTART;TZID=Europe/Madrid:20260522T080000
DTEND;TZID=Europe/Madrid:20260522T170000
DTSTAMP:20260425T143410
CREATED:20260413T221900Z
LAST-MODIFIED:20260419T181122Z
UID:66392-1779436800-1779469200@clubmontanerodemurcia.com
SUMMARY:CENA DE GALA 2026 DEL CLUB MONTAÑERO DE MURCIA (Inscripciones hasta el 18 de mayo)
DESCRIPTION:Estimados socios\, un año más os convocamos a la cena anual del Club Montañero de Murcia\, posiblemente la actividad más importante del año. Dejamos las mochilas y nos sentamos a compartir mesa con amigos y compañeros con un sentimiento común\, las montañas. De aquí siempre salen nuevos proyectos. \n\n\n\n\nQuiero apuntarme\n\n\n\n\n \n\n\n\n\n\n    \n        📍 Ubicación: Hotel Barceló Murcia Siete Coronas\n     \n\n    \n        📅 Fecha: Viernes\, 22 de mayo de 2026\n     \n\n    \n        🕗 Hora: 20:00 h\n     \n\n    \n        🍴 Detalles: Menú\n     \n\n\n\n\n\n \n\n\n\nPrecio \n\n\n\nEl precio del menú es de 47 € (IVA incluido). El club subvencionará a los socios que estén al corriente de pago de la cuota de 2026 con 10 €\, quedando un importe neto de 37 €. \n\n\n\nAparcamiento \n\n\n\nExisten dos opciones disponibles para los asistentes: \n\n\n\n\nParking del Hotel: Disponible según ocupación (sin descuento aplicable).\n\n\n\nParking Hospital Reina Sofía: Con un descuento del 50% para los asistentes al evento.\n\n\n\n\nInstrucciones para el descuento: Deberán sellar el ticket de entrada en la recepción del hotel. Al retirar el vehículo\, presenten el ticket sellado en la garita del parking del hospital para que se le aplique la tarifa reducida. \n\n\n\nAlojamiento en el hotel. \n\n\n\nPara quienes lo deseen\, el hotel dispone de alojamiento en habitación doble (solo estancia) por 100 €. \n\n\n\nOrganización de las mesas \n\n\n\nPara facilitar la organización (mesas de 10 comensales)\, os animamos a inscribiros lo antes posible. Podéis organizar vuestros propios grupos (MAM\, Carpi\, escaladores\, grupo Mateo\, eméritos\, etc.) indicándolo en el formulario.
URL:https://clubmontanerodemurcia.com/event/cena-de-gala-2026-del-club-montanero-de-murcia-inscripciones-hasta-el-18-de-mayo/
CATEGORIES:noticia
ATTACH;FMTTYPE=image/jpeg:https://clubmontanerodemurcia.com/wp-content/uploads/2026/04/ImagenCena.jpg
END:VEVENT
END:VCALENDAR