BEGIN:VCALENDAR
VERSION:2.0
PRODID:-//Club Montañero de Murcia - ECPv6.15.20//NONSGML v1.0//EN
CALSCALE:GREGORIAN
METHOD:PUBLISH
X-ORIGINAL-URL:https://clubmontanerodemurcia.com
X-WR-CALDESC:Eventos para Club Montañero de Murcia
REFRESH-INTERVAL;VALUE=DURATION:PT1H
X-Robots-Tag:noindex
X-PUBLISHED-TTL:PT1H
BEGIN:VTIMEZONE
TZID:Europe/Madrid
BEGIN:DAYLIGHT
TZOFFSETFROM:+0100
TZOFFSETTO:+0200
TZNAME:CEST
DTSTART:20230326T010000
END:DAYLIGHT
BEGIN:STANDARD
TZOFFSETFROM:+0200
TZOFFSETTO:+0100
TZNAME:CET
DTSTART:20231029T010000
END:STANDARD
BEGIN:DAYLIGHT
TZOFFSETFROM:+0100
TZOFFSETTO:+0200
TZNAME:CEST
DTSTART:20240331T010000
END:DAYLIGHT
BEGIN:STANDARD
TZOFFSETFROM:+0200
TZOFFSETTO:+0100
TZNAME:CET
DTSTART:20241027T010000
END:STANDARD
BEGIN:DAYLIGHT
TZOFFSETFROM:+0100
TZOFFSETTO:+0200
TZNAME:CEST
DTSTART:20250330T010000
END:DAYLIGHT
BEGIN:STANDARD
TZOFFSETFROM:+0200
TZOFFSETTO:+0100
TZNAME:CET
DTSTART:20251026T010000
END:STANDARD
END:VTIMEZONE
BEGIN:VEVENT
DTSTART;TZID=Europe/Madrid:20241031T160000
DTEND;TZID=Europe/Madrid:20241103T160000
DTSTAMP:20260426T040135
CREATED:20240917T183832Z
LAST-MODIFIED:20240917T185035Z
UID:8978-1730390400-1730649600@clubmontanerodemurcia.com
SUMMARY:PUENTE ESCALADA EN  EL CHORRO- CAMINITO DEL REY
DESCRIPTION:Tras su paso por el impresionante Desfiladero de los Gaitanes. Paredes que pueden alcanzar hasta los 300 metros de altura conforman un lugar único e irrepetible para aquellos escaladores que son amantes de los desafíos. Con estos condicionantes no es extraño que se haya convertido en la escuela insignia de la escalada en Andalucía y en una de las mejores de España. \nEl domingo 3 de noviembre a las 9:00 haremos el Caminito del Rey ( HAY QUE COMPRAR LA ENTRADA https://www.caminitodelrey.info/es/entradas/comprar) \n. Debe su nombre al rey Alfonso XIII\, que lo atravesó en 1921 para inaugurar la presa del Conde del Guadalhorce. Al igual que la escalada\, esta práctica no es apta para los que sufran de vértigo… o sí\, si estás dispuesto a soportar el miedo a las alturas a cambio de disfrutar con las espectaculares vistas que ofrece el lugar. ¡Quedarán grabadas eternamente en tu memoria! \nHORA Y LUGAR DE REUNIÓN: 16:00h en Carrefour Infante \nHORA Y PUNTO DE PARTIDA: \nDISTANCIA APROXIMADA: \nDURACIÓN: \nDESNIVEL POSITIVO: \nDIFICULTAD FÍSICA: Media \nDIFICULTAD TÉCNICA: Media \nRITMO: Lento. \nABIERTA A TODOS O SOLO SOCIOS : SOLOS SOCIOS \nPLAZAS LIMITADAS: 15 Personas \nOBSERVACIONES/OTROS/CARTOGRAFÍA: \nMaterial individual imprescindible: material de escalada. \nZapatillas o botas de trekking. \nIMPRESCINDIBLE: Estar Federado con LICENCIA B e inscribirse en la página web del Club.. \n 
URL:https://clubmontanerodemurcia.com/event/8978/
CATEGORIES:uncategorized
END:VEVENT
BEGIN:VEVENT
DTSTART;TZID=Europe/Madrid:20241102T084500
DTEND;TZID=Europe/Madrid:20241102T151500
DTSTAMP:20260426T040135
CREATED:20240804T192315Z
LAST-MODIFIED:20240805T071837Z
UID:8764-1730537100-1730560500@clubmontanerodemurcia.com
SUMMARY:Barranco del Búho (Santomera). V3 a1 II
DESCRIPTION:FECHA:  2 de noviembre de 2024 \nPese a sólo tener 5 rápeles\, es ideal para pasar una mañana de barranquismo y practicar las diferentes técnicas. \nHORA Y LUGAR DE REUNIÓN: 8h. Aparcamiento Carrefour Zaraiche. \nHORA Y PUNTO DE PARTIDA: 8:45h. Aparcamiento Comienzo barranco.  \nDISTANCIA APROXIMADA: 3km. \nDURACIÓN: 6h aprox. \nDESNIVEL POSITIVO: 204 m \nDIFICULTAD FÍSICA: Baja. \nDIFICULTAD TÉCNICA: Media/Baja. \nRITMO: Lento. \nABIERTA A TODOS O SOLO SOCIOS : Solo socios \nPLAZAS LIMITADAS: 15 \nOBSERVACIONES/OTROS/CARTOGRAFÍA: \nRecomendable pantalones largos y guantes. Con Google Maps es difícil llegar al parking de inicio del barranco\, así que es mejor salir todos desde Carrefour Zaraiche. \nMaterial individual imprescindible:  \nbotas de treking\, Casco\, Arnés\, Cabo de anclaje doble\, descensor tipo 8\, agua y comida.. \nIMPRESCINDIBLE: Estar Federado con LICENCIA B e inscribirse en la página web del Club\, sin estos requisitos no se podrá participar. \n 
URL:https://clubmontanerodemurcia.com/event/barranco-del-buho-santomera-v3-a1-ii/
CATEGORIES:uncategorized
END:VEVENT
BEGIN:VEVENT
DTSTART;TZID=Europe/Madrid:20241109T090000
DTEND;TZID=Europe/Madrid:20241109T140000
DTSTAMP:20260426T040136
CREATED:20241008T160247Z
LAST-MODIFIED:20241008T213355Z
UID:9109-1731142800-1731160800@clubmontanerodemurcia.com
SUMMARY:SIERRA DE LA PILA
DESCRIPTION:Pasando por la “Cueva de la Mujer Encantada”\, curioso lugar\, aunque se trata solamente de una gran cavidad (antigua cantera)\, donde se encontraba la citada cueva\, de la quedan solo restos. A la cumbre llegaremos guiándonos por los postes del tendido eléctrico\, en una subida algo más abrupta. Ya arriba\, nos dirigiremos\, con más comodidad\, hacia los Cenajos\, la segunda cumbre de la sierra. En el descenso\, hacia la Garapacha\, merece la pena hacer un alto para visitar los Pozos de la Nieve. \nHORA Y LUGAR DE REUNIÓN: 8\,15 h. en Carrefour Infante   \nHORA Y PUNTO DE PARTIDA: 9 h. Fuente Blanca (Fortuna) \nDISTANCIA APROXIMADA: 10 km. \nDURACIÓN: 5 h.   \nDESNIVEL POSITIVO: 700 m. \nDIFICULTAD FÍSICA: Media  \nDIFICULTAD TÉCNICA: Baja \nRITMO: Normal\, disfrutando del paisaje \nABIERTA A TODOS O SOLO SOCIOS : Abierta \nPLAZAS LIMITADAS: No \nOBSERVACIONES/OTROS/CARTOGRAFÍA: \nMaterial individual recomendable: Bastones\, gorra\, agua y calzado cómodo \nIMPRESCINDIBLE: Estar Federado con la tarjeta apropiada a la actividad (A o B) e inscribirse en la página web del Club..
URL:https://clubmontanerodemurcia.com/event/sierra-de-la-pila/
CATEGORIES:uncategorized
END:VEVENT
BEGIN:VEVENT
DTSTART;TZID=Europe/Madrid:20241117T083000
DTEND;TZID=Europe/Madrid:20241117T150000
DTSTAMP:20260426T040136
CREATED:20240804T152348Z
LAST-MODIFIED:20241113T110459Z
UID:8749-1731832200-1731855600@clubmontanerodemurcia.com
SUMMARY:Integral de la Cresta del Gallo Oeste-Este
DESCRIPTION:Salimos de la explanada del aparcamiento y en 15 minutos nos acercamos al inicio de la cresta por el lado Oeste: el primer tramo es una vía de escalada equipada (IVº) de unos 20 m; seguimos ascendiendo por la cresta con tramos (evitables algunos) de trepada\, escalada y/o rappel hasta la cumbre (528 m)\, para descender por el lado de levante (3 rappel; 2 evitables) hasta la Pista de los Forestales\, y por sendero regresar al aparcamiento. \nCada cordada deberá ser independiente y autónoma\, llevar el material necesario (cuerdas dobles\, seguros flotantes\, reuniones\, arnés\, casco\, etc.) y saber utilizarlo (asegurar\, montar reuniones y rappeles). Por tanto es necesario tener experiencia en este tipo de terrenos\, tanto en escalada como en descensos.  \nAunque es una actividad de medio día y en terreno familiar hay zonas expuestas\, por lo que conviene no subestimar la dificultad y el riesgo inherente a la escalada. \n \nHORA Y LUGAR DE REUNIÓN: 8.30 AM Aparcamiento de la Cresta del Gallo. \nhttps://maps.app.goo.gl/4C2ZbyuCRH7rqU8s9 \nHORA Y PUNTO DE PARTIDA: 8.30 AM Aparcamiento de la Cresta del Gallo. \nhttps://maps.app.goo.gl/4C2ZbyuCRH7rqU8s9 \nDISTANCIA APROXIMADA: 3 km. \nDURACIÓN: 6 horas (inicio-fin de todas las cordadas). \nDESNIVEL POSITIVO: unos 200 m. \nDIFICULTAD FÍSICA: Baja. \nDIFICULTAD TÉCNICA: Alta.  \nRITMO: dado que las cordadas serán independientes la actividad debe ser ágil para no alargar excesivamente los tiempos. \nABIERTA A TODOS O SOLO SOCIA/OS: solo socias/os. \nPLAZAS LIMITADAS: 10 cordadas\, 20 personas.  \nOBSERVACIONES/OTROS/CARTOGRAFÍA: Material individual imprescindible: arnés\, casco\, pies de gato\, zapatillas o botas\, cuerdas\, etc. \nMaterial recomendable: agua\, ropa adecuada. \nIMPRESCINDIBLE: Estar Federado con la tarjeta apropiada a la actividad (A o B) e inscribirse en la página web del Club\, sin estos requisitos no se podrá participar.
URL:https://clubmontanerodemurcia.com/event/integral-de-la-cresta-del-gallo-oeste-este/
CATEGORIES:uncategorized
END:VEVENT
BEGIN:VEVENT
DTSTART;TZID=Europe/Madrid:20241123T070000
DTEND;TZID=Europe/Madrid:20241123T150000
DTSTAMP:20260426T040136
CREATED:20241021T155426Z
LAST-MODIFIED:20241021T160013Z
UID:9235-1732345200-1732374000@clubmontanerodemurcia.com
SUMMARY:INTEGRAL SIERRA DE CREVILLENTE.
DESCRIPTION:Y aunque a primera vista es una sierra pelada\, esconde lugares realmente bonitos en toda su extensión\, pero en esta ocasión\, la intención es la de recorrer todo su “skyline”para\, de este modo\, conseguir apuntarnos sus cuatro cumbres de mayor \naltitud: \n El Puntal – 792 m. \n La Vella – 836 m. \n San Yuri – 794 m. \n San Cayetano – 817 m. (El Picatxo\, como se lo conoce en la localidad). \nRuta espectacular en la que\, en un día despejado\, se ve perfectamente el mar Mediterráneo desde sus alturas\, al igual que toda la Vega Baja por su vertiente Sudeste y los Hondones por la cara Noroeste. \nEs una actividad exigente físicamente por su duración\, por su longitud y también por el desnivel acumulado que ronda los 1400m.\, en su mayor parte se trata de pista forestal o senderos sencillos\, aunque hay varios tramos en los que el sendero es un poco más intrincado y agresivo\, tanto para subir como para bajar\, aunque no debería ser necesario llegar a poner manos a tierra. \nHORA Y LUGAR DE REUNIÓN: -> 7:00h Aparcamiento Lidl\, Juan de Borbón (Junto a Ikea) \nhttps://maps.app.goo.gl/rdNLqc8Wyw3gvrxQ9 \nHORA Y PUNTO DE PARTIDA: -> 8:30h en zona aparcamiento ELS PONTETS de Crevillente \nhttps://maps.app.goo.gl/x12hWQ899233XUbb8 \nDISTANCIA APROXIMADA: 22\,4 km. \nDURACIÓN APROXIMADA: 6 h. \nDESNIVEL POSITIVO: 1400 m. \nDIFICULTAD FÍSICA: Media/Alta (4 escala MIDE) \nDIFICULTAD TÉCNICA: Baja/Media (3 escala MIDE) \nRITMO LIGERO (la ruta es larga y si vamos lentos se puede eternizar) \nACTIVIDAD SOLO SOCIOS \nPLAZAS LIMITADAS: 15 \nOBSERVACIONES/OTROS/CARTOGRAFÍA: Se adjunta archivo gpx para quien quiera para su \ndispositivo GPS—> Integral Sierra De Crevillente (1) \nMaterial individual imprescindible: Comida (almuerzo y comida) y bebida suficiente (mínimo \nlitro y medio)\, crema solar y gorra o similar\, manta térmica\, frontal\, botas y ropa adecuada a \nla climatología que nos encontremos\, \nMaterial recomendable: Bastones. \nIMPRESCINDIBLE: Estar Federado con la tarjeta apropiada a la actividad (A o B) e inscribirse \nen la página web del Club\, sin estos requisitos no se podrá participar. \n \n  \n 
URL:https://clubmontanerodemurcia.com/event/integral-sierra-de-crevillente/
CATEGORIES:uncategorized
END:VEVENT
BEGIN:VEVENT
DTSTART;TZID=Europe/Madrid:20241124T090000
DTEND;TZID=Europe/Madrid:20241124T170000
DTSTAMP:20260426T040136
CREATED:20241119T082015Z
LAST-MODIFIED:20241120T080725Z
UID:9375-1732438800-1732467600@clubmontanerodemurcia.com
SUMMARY:Iniciación a la Escalada. Mula
DESCRIPTION:HORA Y LUGAR DE REUNIÓN: 9 h. en el Carrefour Infante\, detrás del McDonalds. \nDURACIÓN: Todo el día. \nDIFICULTAD FÍSICA: Baja-Media \nDIFICULTAD TÉCNICA: Baja-Media \nABIERTA SOLO A SOCIOS : Solo socios y federados en escalada. \nPLAZAS LIMITADAS: Inscritos en el curso y GEM. \nOBSERVACIONES/OTROS/CARTOGRAFÍA: \nSeguimos con el curso de Iniciación a la Escalada. Escalaremos y practicaremos nudos\, posicionamientos en la pared\, descuelgues y si da tiempo algo de rapel ya visto en la charlas de teoría. \nMaterial individual: Arnés\, pies de gato y casco de escalada. \nLlevar quien tenga cuerdas\, cintas\, grigri y cualquier cosa que consideréis puede ser necesaria o queráis saber como se usa. Comida y bebida para todo el día. \nIMPRESCINDIBLE: Estar Federado con LICENCIA B e inscribirse en la página web del Club.
URL:https://clubmontanerodemurcia.com/event/iniciacion-a-la-escalada-mula/
CATEGORIES:uncategorized
END:VEVENT
END:VCALENDAR