BEGIN:VCALENDAR
VERSION:2.0
PRODID:-//Club Montañero de Murcia - ECPv6.15.20//NONSGML v1.0//EN
CALSCALE:GREGORIAN
METHOD:PUBLISH
X-ORIGINAL-URL:https://clubmontanerodemurcia.com
X-WR-CALDESC:Eventos para Club Montañero de Murcia
REFRESH-INTERVAL;VALUE=DURATION:PT1H
X-Robots-Tag:noindex
X-PUBLISHED-TTL:PT1H
BEGIN:VTIMEZONE
TZID:Europe/Madrid
BEGIN:DAYLIGHT
TZOFFSETFROM:+0100
TZOFFSETTO:+0200
TZNAME:CEST
DTSTART:20230326T010000
END:DAYLIGHT
BEGIN:STANDARD
TZOFFSETFROM:+0200
TZOFFSETTO:+0100
TZNAME:CET
DTSTART:20231029T010000
END:STANDARD
BEGIN:DAYLIGHT
TZOFFSETFROM:+0100
TZOFFSETTO:+0200
TZNAME:CEST
DTSTART:20240331T010000
END:DAYLIGHT
BEGIN:STANDARD
TZOFFSETFROM:+0200
TZOFFSETTO:+0100
TZNAME:CET
DTSTART:20241027T010000
END:STANDARD
BEGIN:DAYLIGHT
TZOFFSETFROM:+0100
TZOFFSETTO:+0200
TZNAME:CEST
DTSTART:20250330T010000
END:DAYLIGHT
BEGIN:STANDARD
TZOFFSETFROM:+0200
TZOFFSETTO:+0100
TZNAME:CET
DTSTART:20251026T010000
END:STANDARD
END:VTIMEZONE
BEGIN:VEVENT
DTSTART;VALUE=DATE:20241212
DTEND;VALUE=DATE:20241213
DTSTAMP:20260426T023225
CREATED:20221226T114403Z
LAST-MODIFIED:20250101T121318Z
UID:6765-1733961600-1734047999@clubmontanerodemurcia.com
SUMMARY:CÓMO TRAMITAR LA TARJETA FEDERATIVA 2025 "SÓLO PARA SOCIOS DEL CMM"
DESCRIPTION:SÓLO PARA SOCIOS DEL CMM \n«SIN PLÁSTICOS» las licencias por defecto se entregarán en «FORMATO DIGITAL». Si se desea la tarjeta física debe marcar la casilla de impresión y abonar el complemento de 2 €. \nDESCUENTO EN REFUGIOS 2025\, igual que el año pasado: Acuerdo de Correspondencia de Refugios. \nLas federaciones autonómicas de montaña de Cataluña (24 Refugios)\, Aragón (16)\, Navarra (1)\, Asturias (7) y País Vasco (1) han dejado de estar dentro del Convenio de Reciprocidad de la FEDME\, juntas suponen 49 refugios de montaña y 2.210 plazas. Podéis consultar el listado en \nhttps://correspondenciarefugios.org \ncreando un Acuerdo de Correspondencia de Refugios al que se han sumado otras federaciones territoriales\, entre ellas la de Murcia\, para tener los descuentos habituales. *Esto supone que en estos refugios será válida para obtener esos descuentos la licencia FMRM y la FEDME-Murcia* . \nLa FEDME no ha considerado integrarse en dicho acuerdo\, por lo que el habitual Convenio de Reciprocidad de refugios ofrece en España sólo 3 refugios. En concreto\, los de Andalucía (2 Refugios)\, Castilla y León (1)\, junto con los refugios europeos de Suiza\, Alemania\, Austria\, Francia\, Italia. Esto supone que en estos refugios solamente será válida para obtener descuentos la tarjeta FEDME. \nLa única excepción o exclusión\, lógicamente\, a todo lo anterior son las licencias AU autonómicas cuyo ámbito de cobertura es exclusivamente la Comunidad Autónoma de la Región de Murcia. *FEDME tramitada en la Federación Murciana. Más información sobre el Acuerdo en: \nhttps://correspondenciarefugios.org \n1- Ingresar o transferir el importe EXACTO de la LICENCIA Federativa en la cuenta del Club Montañero mediante uno de los siguientes medios de pago: \nES91 3058 0243 4627 2020 4488 Cajamar \n\n\nEn el concepto NOMBRE COMPLETO Y TIPO DE TARJETA QUE SOLICITA\, A\, B\, C\, D\, E\, OT\, AU\, HAB\nHay que tener en cuenta si es FMRM o FEDME (obligatoria para competiciones Nacionales)\nSuplementos: Bicicleta por Montaña 12€ / Esquí Alpino 34’50€ / Snow 47’50€ /Impresiones\, Ampliaciones y Reimpresiones 2€.\n\n\n2-Una vez hecho el ingreso o la transferencia hay que enviar justificante del pago al correo del Club: clubmontaneromurcia@gmail.com \n1 – FEDERACIÓN ESPAÑOLA DE DEPORTES DE MONTAÑA Y  ESCALADA – FEDME \n \n2 – FEDERACIÓN DE MONTAÑISMO DE LA REGIÓN MURCIA – FMRM \n\n \n  \nAdjuntos: \nPRECIOS Licencias 2025 \nDESCUENTOS Refugios 2025
URL:https://clubmontanerodemurcia.com/event/como-tramitar-la-tarjeta-federativa-2023-solo-para-socios-del-club-montanero-de-murcia/
CATEGORIES:uncategorized
END:VEVENT
BEGIN:VEVENT
DTSTART;TZID=Europe/Madrid:20241212T200000
DTEND;TZID=Europe/Madrid:20241212T210000
DTSTAMP:20260426T023225
CREATED:20241113T212530Z
LAST-MODIFIED:20241128T081957Z
UID:9353-1734033600-1734037200@clubmontanerodemurcia.com
SUMMARY:AUDIOVISUAL - DESCENSO BARRANCO LAS TORCAS - CAÑÓN DEL RÍO ARCOS
DESCRIPTION:  \nEl río Arcos\, afluente del Turia\, nace en las laderas de la Sierra de Javalambre\, a unos 1.400 m. de altura\, de caudal permanente y con crecidas impresionantes ha horadado a través de sus aguas una espectacular garganta de estrechas paredes y grandes verticales\, más de corte de estilo pirenaico\, el cual recorreremos a través de este audiovisual donde podremos disfrutar de la naturaleza de este entorno mágico\, salvaje\, solitario\, apartado y tremendamente bello. \n \nEste descenso se desarrolla en un entorno de gran belleza y relativamente sencillo siempre y cuando no lo encontremos con mucho caudal ni haya crecidas repentinas pues no habría escapatoria posible en la zona engorgada. \nEL cañón está apartado y bastante aislado y se encuentra situado entre las provincias de Valencia y Teruel y tiene una dificultad del descenso: V2 A3 II \n  \n  \n  \n  \n  \n 
URL:https://clubmontanerodemurcia.com/event/audiovisual-descenso-barranco-las-torcas-canon-del-rio-blanco/
CATEGORIES:uncategorized
END:VEVENT
BEGIN:VEVENT
DTSTART;TZID=Europe/Madrid:20241214T093000
DTEND;TZID=Europe/Madrid:20241214T093000
DTSTAMP:20260426T023225
CREATED:20241122T180520Z
LAST-MODIFIED:20241128T081816Z
UID:9452-1734168600-1734168600@clubmontanerodemurcia.com
SUMMARY:ARREGLOS SENDA DE LOS CARPI
DESCRIPTION:
URL:https://clubmontanerodemurcia.com/event/arreglos-senda-de-los-carpi/
CATEGORIES:uncategorized
END:VEVENT
BEGIN:VEVENT
DTSTART;TZID=Europe/Madrid:20241221T090000
DTEND;TZID=Europe/Madrid:20241221T133000
DTSTAMP:20260426T023225
CREATED:20241207T173836Z
LAST-MODIFIED:20241207T174200Z
UID:9534-1734771600-1734787800@clubmontanerodemurcia.com
SUMMARY:RUTA HOMENAJE A JOSÉ LUIS ORTIZ "Papa Carpi"
DESCRIPTION:La ruta será mañanera para terminar en el campamento de la Cresta. \n\nHora y lugar de Reunión: 9 h. Explanada Cresta del Gallo\nHora y punto de partida: Idem\nDistancia aproximada: 11 km.\nDuración aproximada: Toda la mañana\nDesnivel: 300 m.\nDificultad física: Media\nDificultad técnica: Media\nRitmo (lijando\, alegre\, normal\, moderado\, lento: Normal\nIMPRESCINDIBLE:*: Estar Federado e inscribirse en la página web del Club.
URL:https://clubmontanerodemurcia.com/event/ruta-homenaje-a-jose-luis-ortiz-papa-carpi/
CATEGORIES:uncategorized
END:VEVENT
END:VCALENDAR