BEGIN:VCALENDAR
VERSION:2.0
PRODID:-//Club Montañero de Murcia - ECPv6.15.20//NONSGML v1.0//EN
CALSCALE:GREGORIAN
METHOD:PUBLISH
X-ORIGINAL-URL:https://clubmontanerodemurcia.com
X-WR-CALDESC:Eventos para Club Montañero de Murcia
REFRESH-INTERVAL;VALUE=DURATION:PT1H
X-Robots-Tag:noindex
X-PUBLISHED-TTL:PT1H
BEGIN:VTIMEZONE
TZID:Europe/Madrid
BEGIN:DAYLIGHT
TZOFFSETFROM:+0100
TZOFFSETTO:+0200
TZNAME:CEST
DTSTART:20240331T010000
END:DAYLIGHT
BEGIN:STANDARD
TZOFFSETFROM:+0200
TZOFFSETTO:+0100
TZNAME:CET
DTSTART:20241027T010000
END:STANDARD
BEGIN:DAYLIGHT
TZOFFSETFROM:+0100
TZOFFSETTO:+0200
TZNAME:CEST
DTSTART:20250330T010000
END:DAYLIGHT
BEGIN:STANDARD
TZOFFSETFROM:+0200
TZOFFSETTO:+0100
TZNAME:CET
DTSTART:20251026T010000
END:STANDARD
BEGIN:DAYLIGHT
TZOFFSETFROM:+0100
TZOFFSETTO:+0200
TZNAME:CEST
DTSTART:20260329T010000
END:DAYLIGHT
BEGIN:STANDARD
TZOFFSETFROM:+0200
TZOFFSETTO:+0100
TZNAME:CET
DTSTART:20261025T010000
END:STANDARD
END:VTIMEZONE
BEGIN:VEVENT
DTSTART;TZID=Europe/Madrid:20250105T073000
DTEND;TZID=Europe/Madrid:20250105T140000
DTSTAMP:20260426T010238
CREATED:20241205T164326Z
LAST-MODIFIED:20241209T133916Z
UID:9518-1736062200-1736085600@clubmontanerodemurcia.com
SUMMARY:LA PILA DE LA REINA MORA\, EL CHINTE (POR EL CORAZÓN DEL VALLE DE RICOTE) 
DESCRIPTION:HORA Y LUGAR DE REUNIÓN: 7:30h Parking Supermercado Lidl (cerca Odiseo) \nHORA Y PUNTO DE PARTIDA: 8:00h  Carretera ulea RM-523 https://maps.app.goo.gl/oJPWWmu99A2de7V87 \nDISTANCIA TOTAL APROXIMADA: 16 km \nDURACIÓN: unas 5 horas \nDESNIVEL POSITIVO: sobre los 900 m \nDIFICULTAD FÍSICA: Media \nDIFICULTAD TÉCNICA: Media \nRITMO: Normal y dependiendo del ritmo de progresión. \nABIERTA A TODOS O SOLO SOCIOS: Abierta \nPLAZAS LIMITADAS: No \nOBSERVACIONES/OTROS/CARTOGRAFÍA: \nMaterial individual recomendable: Bastones \nIMPRESCINDIBLE: Estar Federado con la tarjeta A mínimo e inscribirse en la página web del Club. \nOBSERVACIONES: pasaremos por todos los estados (senda\, camino\, campo a través\, un poquito de asfalto (pero «mu» poquito)\, para acceder a la pila de la Reina Mora hay que hacer una pequeña trepadilla \nMATERIAL NECESARIO:   .Equipamiento según la época del año
URL:https://clubmontanerodemurcia.com/event/la-pila-de-la-reina-mora-el-chinte-por-el-corazon-del-valle-de-ricote/
CATEGORIES:uncategorized
END:VEVENT
BEGIN:VEVENT
DTSTART;TZID=Europe/Madrid:20250116T193000
DTEND;TZID=Europe/Madrid:20250116T213000
DTSTAMP:20260426T010238
CREATED:20250102T092204Z
LAST-MODIFIED:20250102T092257Z
UID:9778-1737055800-1737063000@clubmontanerodemurcia.com
SUMMARY:TALLER DE MONTAJE DE CABECERAS EN BARRANCOS
DESCRIPTION:Hoy veremos algo de teoría y demostración práctica de los montajes básicos para poder realizar de forma autónoma cualquier barranco. Más adelante se realizará un segundo taller de cabeceras avanzado. El sábado 18 haremos las prácticas en una pared y además de realizar los diferentes montajes\, practicaremos también con la recuperación de cuerda y con pasamanos. \nHORA Y LUGAR DE REUNIÓN: 19:30 LOCALES DEL CLUB \nDURACIÓN APROXIMADA: 2 HORAS \nDESNIVEL: —————– \nDIFICULTAD FÍSICA:  NINGUNA \nDIFICULTAD TÉCNICA: MEDIA-BAJA \nRITMO : LENTO \nABIERTA A TODOS O SOLO SOCIOS ?:  A TODOS \nPLAZAS LIMITADAS ?: NO \nOBSERVACIONES/OTROS/CARTOGRAFÍA: \nMaterial individual imprescindible:  \nMaterial recomendable: UN OCHO Y VARIOS MOSQUETONES CON SEGURO \nIMPRESCINDIBLE: Estar Federado con la tarjeta apropiada a la actividad (A o B) e inscribirse en la página web del Club\, sin estos requisitos no se podrá participar. \n  \n 
URL:https://clubmontanerodemurcia.com/event/taller-de-montaje-de-cabeceras-en-barrancos/
CATEGORIES:uncategorized
END:VEVENT
BEGIN:VEVENT
DTSTART;TZID=Europe/Madrid:20250119T080000
DTEND;TZID=Europe/Madrid:20250119T153000
DTSTAMP:20260426T010238
CREATED:20250102T093747Z
LAST-MODIFIED:20250114T100925Z
UID:9783-1737273600-1737300600@clubmontanerodemurcia.com
SUMMARY:Barranco de Los Muertos (La Aparecida). V4 A1 II
DESCRIPTION:Un barranco seco\, algo vertical y muy divertido. Es un barranco que nos va a permitir practicar las diferentes técnicas y maniobras que hemos visto en el taller de día 16. \nHORA Y LUGAR DE REUNIÓN: 8h. Aparcamiento Carrefour Zaraiche. \nHORA Y PUNTO DE PARTIDA: 8:45h. Aparcamiento Cementerio La Aparecida. \nDISTANCIA APROXIMADA: 3km. \nDURACIÓN: 6h aprox. \nDESNIVEL POSITIVO: 140 m \nDIFICULTAD FÍSICA: Baja. \nDIFICULTAD TÉCNICA: Media. \nRITMO: Lento. \nABIERTA A TODOS O SOLO SOCIOS : Solo socios \nPLAZAS LIMITADAS: 12 \nOBSERVACIONES/OTROS/CARTOGRAFÍA: Recomendable pantalones largos y guantes.  \nMaterial individual imprescindible:  \nbotas de treking\, Casco\, Arnés\, Cabo de anclaje doble\, descensor tipo 8\, agua y comida.. \nIMPRESCINDIBLE: Estar Federado con LICENCIA B e inscribirse en la página web del Club\, sin estos requisitos no se podrá participar.
URL:https://clubmontanerodemurcia.com/event/barranco-de-los-muertos-la-aparecida-v4-a1-ii/
CATEGORIES:uncategorized
END:VEVENT
BEGIN:VEVENT
DTSTART;TZID=Europe/Madrid:20250123T200000
DTEND;TZID=Europe/Madrid:20250123T210000
DTSTAMP:20260426T010238
CREATED:20241122T165222Z
LAST-MODIFIED:20241128T075735Z
UID:9446-1737662400-1737666000@clubmontanerodemurcia.com
SUMMARY:Audiovisual - Vía Ferrata La Mulatica K4
DESCRIPTION:instalada en las atractivas paredes de roca de rodeno rojo\, la cual cuenta con algunos pasos atléticos y con desplome\, está catalogada con una dificultad de K4 siendo de carácter deportivo\, pero lo que nos llevó hasta aquí no fue su nivel de dificultad sino su gran atractivo a nivel paisajístico\, al estar situada en un entorno envidiable y que nos gustaría mostraros en esta proyección. \nOs esperamos \nHORA Y LUGAR DE REUNIÓN: Local del Club Montañero \nHORA Y PUNTO DE PARTIDA: 20h \nABIERTA A TODOS O SOLO SOCIOS: Abierta a todos \nPLAZAS LIMITADAS: Hasta completar aforo
URL:https://clubmontanerodemurcia.com/event/via-ferrata-la-mulatica-k4/
CATEGORIES:uncategorized
END:VEVENT
BEGIN:VEVENT
DTSTART;TZID=Europe/Madrid:20250125T073000
DTEND;TZID=Europe/Madrid:20250125T143000
DTSTAMP:20260426T010238
CREATED:20250114T084845Z
LAST-MODIFIED:20250114T155218Z
UID:9965-1737790200-1737815400@clubmontanerodemurcia.com
SUMMARY:LA AZOHÍA- CABEZO DE LA PANADERA (373m)-PICO DE LA PICADERA(405m).CUMBRES DE MURCIA
DESCRIPTION:De ahí nos dirigimos al collado de los siete  Cucones para coger el cresterío hasta las Antenas donde tendremos unas bonitas imágenes desde un pequeño rocódromo que encontramos en la cumbre.Seguidamente nos dirigimos a unas construcciones militares abandonadas  que nos aproximan a nuestro siguiente objetivo \,el vértice geodésico de la Picadera 405m y vuelta de nuevo a la Azohía. \nEn la Azohía podemos tomar algo en el Bar León y opcional \,si hay ganas \, podemos hacer alguna vía en el rocódromo Natural que hay montado en la cueva .Ahí hay vías de todos los grados desde muy fácil III-IV hasta 7b . \nLugar de partida en Murcia: Carrefour Zaraiche(detrás) .7.30.(calle Pintor Molina Sánchez) \nHORA Y PUNTO DE REUNIÓN: Bar León :8.30 \nDISTANCIA TOTAL APROXIMADA: 10km \nDURACIÓN: 4h30’ \nDESNIVEL POSITIVO:  600m \nDIFICULTAD FÍSICA: Baja \nDIFICULTAD TÉCNICA:Baja \nRITMO: Normal \nABIERTA A TODOS O SOLO SOCIOS: abierta \nPLAZAS LIMITADAS: NO \nMaterial individual recomendable:Agua \,zapatillas o botas\,roma cómoda . \nPies de gato (opcional) \nIMPRESCINDIBLE: Estar Federado con la tarjeta A  o B\, según la actividad e inscribirse en la página web del Club. \n  \n  \n  \n  \n  \n  \n  \n  \n  \n  \n 
URL:https://clubmontanerodemurcia.com/event/la-azohia-cabezo-de-la-panadera-373m-pico-de-la-picadera405m-cumbres-de-murcia/
CATEGORIES:uncategorized
END:VEVENT
BEGIN:VEVENT
DTSTART;TZID=Europe/Madrid:20250126T080000
DTEND;TZID=Europe/Madrid:20250126T170000
DTSTAMP:20260426T010238
CREATED:20241217T190319Z
LAST-MODIFIED:20241218T155030Z
UID:9614-1737878400-1737910800@clubmontanerodemurcia.com
SUMMARY:Practicas de RAPEL..
DESCRIPTION:HORA Y LUGAR DE REUNIÓN: Domingo a las 8 h. en Carrefour Infante\, Detrás del McDonalds. \nDURACIÓN: Todo el dia \nDIFICULTAD FÍSICA: Media-Baja  \nDIFICULTAD TÉCNICA: Media-Alta.  \nABIERTA A TODOS O SOLO SOCIOS: Solo socios \nOBSERVACIONES: Realizaremos un barranco por la mañana con varios rapeles y por la tarde otros rapeles en la Cresta del Gallo. \nMaterial individual: Arnés\, casco de escalada\, dos cintas largas para asegurarnos a las reuniones con mosquetones de seguro. Rapelador (cesta\, ocho\, alpine Up\,…) con mosquetón de seguro. Asegurador\, (pato o cordino para marchard….). Llevar cuerdas quien tenga. \nComida y bebida para todo el dia.  \nIMPRESCINDIBLE: Estar Federado con LICENCIA B e inscribirse en la página web del Club.
URL:https://clubmontanerodemurcia.com/event/practicas-de-rapel-2/
CATEGORIES:uncategorized
END:VEVENT
BEGIN:VEVENT
DTSTART;TZID=Europe/Madrid:20250130T193000
DTEND;TZID=Europe/Madrid:20250130T213000
DTSTAMP:20260426T010238
CREATED:20241123T173836Z
LAST-MODIFIED:20241128T181621Z
UID:9458-1738265400-1738272600@clubmontanerodemurcia.com
SUMMARY:Taller de fotografía de Montaña y Viajes
DESCRIPTION:En este taller te vamos a dar algunas pautas para que puedas conseguir fotografías de mejor calidad y con mayor impacto visual.\nTaller válido para cualquier tipo de cámara\, ya sea una compacta\, réflex o smartphone\, veremos algunos conceptos básicos y técnicas que se pueden utilizar para conseguir mejores fotografías. \nHORA Y LUGAR DE REUNIÓN: 19:30h Local del Club Montañero \nABIERTA A TODOS O SOLO SOCIOS: SOLO SOCIOS \nPLAZAS LIMITADAS: 25 personas
URL:https://clubmontanerodemurcia.com/event/taller-de-fotografia-de-montana-y-viajes/
CATEGORIES:uncategorized
END:VEVENT
END:VCALENDAR