BEGIN:VCALENDAR
VERSION:2.0
PRODID:-//Club Montañero de Murcia - ECPv6.15.20//NONSGML v1.0//EN
CALSCALE:GREGORIAN
METHOD:PUBLISH
X-ORIGINAL-URL:https://clubmontanerodemurcia.com
X-WR-CALDESC:Eventos para Club Montañero de Murcia
REFRESH-INTERVAL;VALUE=DURATION:PT1H
X-Robots-Tag:noindex
X-PUBLISHED-TTL:PT1H
BEGIN:VTIMEZONE
TZID:Europe/Madrid
BEGIN:DAYLIGHT
TZOFFSETFROM:+0100
TZOFFSETTO:+0200
TZNAME:CEST
DTSTART:20250330T010000
END:DAYLIGHT
BEGIN:STANDARD
TZOFFSETFROM:+0200
TZOFFSETTO:+0100
TZNAME:CET
DTSTART:20251026T010000
END:STANDARD
BEGIN:DAYLIGHT
TZOFFSETFROM:+0100
TZOFFSETTO:+0200
TZNAME:CEST
DTSTART:20260329T010000
END:DAYLIGHT
BEGIN:STANDARD
TZOFFSETFROM:+0200
TZOFFSETTO:+0100
TZNAME:CET
DTSTART:20261025T010000
END:STANDARD
BEGIN:DAYLIGHT
TZOFFSETFROM:+0100
TZOFFSETTO:+0200
TZNAME:CEST
DTSTART:20270328T010000
END:DAYLIGHT
BEGIN:STANDARD
TZOFFSETFROM:+0200
TZOFFSETTO:+0100
TZNAME:CET
DTSTART:20271031T010000
END:STANDARD
END:VTIMEZONE
BEGIN:VEVENT
DTSTART;TZID=Europe/Madrid:20260221T091500
DTEND;TZID=Europe/Madrid:20260221T160000
DTSTAMP:20260425T055201
CREATED:20251114T174556Z
LAST-MODIFIED:20260222T083132Z
UID:14289-1771665300-1771689600@clubmontanerodemurcia.com
SUMMARY:***CERRADAS INSCRIPCIONES*** LA SAGRA 2.381 m. CON NIEVE (opción A) - SIN NIEVE (opción B)
DESCRIPTION:algunas vías de la cara norte de la Sagra 2381 m. \nHORA Y LUGAR DE REUNIÓN:  7:15 h. Carrefour INFANTE \nHORA Y PUNTO DE PARTIDA:  9 h. Collados de la Sagra \nDISTANCIA APROXIMADA: 9\,500 km. (A) / 10\,700 km. (B) \nDURACIÓN: 6 horas \nDESNIVEL POSITIVO: 950 m. \nDIFICULTAD FÍSICA: Media-Alta \nDIFICULTAD TÉCNICA: Media-Alta \nRITMO: de montañeros \nABIERTA A TODOS O SOLO SOCIOS: SÓLO SOCIOS \nPLAZAS LIMITADAS: con nieve NO – sin nieve 12 personas \n\nTramo final de la vía Pingüino \nRECORRIDOS: \nOPCIÓN A – CON NIEVE:\nUna vez delante de la montaña valoraremos su estado y cantidad  de nieve para afrontar cualquiera de estos recorridos:\n1- Corredor Andino\n2- Vía Pingüino\n3- Corredor central / paso del Viento \nOPCIÓN B – SIN NIEVE\nCorredor Romualdo (máximo 12 personas) \nOBSERVACIONES IMPORTANTES\, material imprescindible: \nOPCIÓN – A – CON NIEVE\nCasco\, piolet\, crampones y SABER USARLOS\, además de todo lo necesario para una ascensión invernal. \nNo es una actividad de INICIACIÓN\, los asistentes tienen que saber manejarse en estos terrenos y se da por hecho que dominan la técnica de AUTO-DETENCIÓN y progresión en terrenos nevados\, esto se aprende en los cursos de la FMRM. \nOPCIÓN – B – SIN NIEVE\nCasco\, arnés y mosquetón de seguro\,\, además de todo lo necesario para una ascensión invernal \nIMPRESCINDIBLE: ESTAR FEDERADO CON LICENCIA B E INSCRIBIRSE EN LA PÁGINA WEB DEL CLUB. \nentrada al Corredor Romualdo dónde un bloque empotrado impide el paso.
URL:https://clubmontanerodemurcia.com/event/la-sagra-2-381-m-con-nieve-opcion-a-sin-nieve-opcion-b/
CATEGORIES:uncategorized
END:VEVENT
BEGIN:VEVENT
DTSTART;TZID=Europe/Madrid:20260228T083000
DTEND;TZID=Europe/Madrid:20260228T143000
DTSTAMP:20260425T055201
CREATED:20251228T114415Z
LAST-MODIFIED:20260126T173935Z
UID:14738-1772267400-1772289000@clubmontanerodemurcia.com
SUMMARY:El Pajarón\, Los Pájaros I y II\, y Las Grajas: cuatro picos y ni una pluma
DESCRIPTION:HORA Y LUGAR DE REUNIÓN: 7 h. aparcamiento del Leroy Merlín de la Alberca \nHORA Y PUNTO DE PARTIDA: 8:30 Cortijo de la Tercia Vieja (se hara grupo de guasap) \nDISTANCIA APROXIMADA: 8 km. \nDURACIÓN: 5 horas \nDESNIVEL POSITIVO: 525 mts. \nDIFICULTAD FÍSICA: Moderada \nDIFICULTAD TÉCNICA: Fácil \nRITMO: Moderado \nABIERTA A TODOS O SOLO SOCIOS: socios y federados por el CMM \nPLAZAS LIMITADAS: NO \nOBSERVACIONES/OTROS/CARTOGRAFÍA: \nMaterial individual recomendable: Equipo de montaña habitual. Agua (no hay fuentes). Comida para el día \nIMPRESCINDIBLE: Estar Federado con la tarjeta apropiada a la actividad (A o B) e inscribirse en la página web del Club..
URL:https://clubmontanerodemurcia.com/event/el-pajaron-los-pajaros-i-y-ii-y-las-grajas-cuatro-picos-y-ni-una-pluma/
CATEGORIES:uncategorized
END:VEVENT
END:VCALENDAR