BEGIN:VCALENDAR
VERSION:2.0
PRODID:-//Club Montañero de Murcia - ECPv6.15.20//NONSGML v1.0//EN
CALSCALE:GREGORIAN
METHOD:PUBLISH
X-WR-CALNAME:Club Montañero de Murcia
X-ORIGINAL-URL:https://clubmontanerodemurcia.com
X-WR-CALDESC:Eventos para Club Montañero de Murcia
REFRESH-INTERVAL;VALUE=DURATION:PT1H
X-Robots-Tag:noindex
X-PUBLISHED-TTL:PT1H
BEGIN:VTIMEZONE
TZID:Europe/Madrid
BEGIN:DAYLIGHT
TZOFFSETFROM:+0100
TZOFFSETTO:+0200
TZNAME:CEST
DTSTART:20240331T010000
END:DAYLIGHT
BEGIN:STANDARD
TZOFFSETFROM:+0200
TZOFFSETTO:+0100
TZNAME:CET
DTSTART:20241027T010000
END:STANDARD
BEGIN:DAYLIGHT
TZOFFSETFROM:+0100
TZOFFSETTO:+0200
TZNAME:CEST
DTSTART:20250330T010000
END:DAYLIGHT
BEGIN:STANDARD
TZOFFSETFROM:+0200
TZOFFSETTO:+0100
TZNAME:CET
DTSTART:20251026T010000
END:STANDARD
BEGIN:DAYLIGHT
TZOFFSETFROM:+0100
TZOFFSETTO:+0200
TZNAME:CEST
DTSTART:20260329T010000
END:DAYLIGHT
BEGIN:STANDARD
TZOFFSETFROM:+0200
TZOFFSETTO:+0100
TZNAME:CET
DTSTART:20261025T010000
END:STANDARD
END:VTIMEZONE
BEGIN:VEVENT
DTSTART;TZID=Europe/Madrid:20250927T093000
DTEND;TZID=Europe/Madrid:20250928T150000
DTSTAMP:20260426T060400
CREATED:20250718T165957Z
LAST-MODIFIED:20250921T182913Z
UID:13341-1758965400-1759071600@clubmontanerodemurcia.com
SUMMARY:INFANTIL - Visita al Hosquillo (Cuenca)
DESCRIPTION:SOLICITAR SEGURO DE DÍA \nGrupo de whatsapp de la actividad: https://chat.whatsapp.com/IIMwGnOvkoAI5dcsJY6ago \nComprar las entradas: https://www.parqueelhosquillo.com/comprar-entrada \nA parte de aves\, los principales animales son ciervos\, corzos\, gamos\, muflones y cabras montesas aunque destacando sobre los demás\, el lobo ibérico y el oso pardo. \nLos interesados en asistir tienen que comprar las entradas en su web. Es importante compararlas cuanto antes dado que se trata de una visita guiada por lo que hay plazas limitadas en cada turno. Vamos a intentar entrar en la visita de las 10:30 la mañana el sábado 27. \nTras la visita de 2-3 horas según veamos que se encuentran los peques podemos subir al Mirador de la Peña del Reloj y tomar un tentempié con buenas vistas a todo el valle (2.3 km i/v). \nLa idea es alojarnos en la población de Las Majadas. Por lo que tras un merecido descanso\, podremos hacer un paseo por camino forestal (8km i/v) hasta el Mirador del Tío Cogote para disfrutar la puesta de sol (se puede subir en coche si alguno no ha terminado de recuperar) \nEl domingo por la mañana antes de iniciar el regreso a casa daremos un paseo por el laberinto de piedras de Los Callejones para dejar que vuele la imaginación con las locas formas de las rocas. \n \nPrecio de las entradas:
URL:https://clubmontanerodemurcia.com/event/visita-al-hosquillo/
CATEGORIES:infantil
END:VEVENT
END:VCALENDAR