BEGIN:VCALENDAR
VERSION:2.0
PRODID:-//Club Montañero de Murcia - ECPv6.15.20//NONSGML v1.0//EN
CALSCALE:GREGORIAN
METHOD:PUBLISH
X-ORIGINAL-URL:https://clubmontanerodemurcia.com
X-WR-CALDESC:Eventos para Club Montañero de Murcia
REFRESH-INTERVAL;VALUE=DURATION:PT1H
X-Robots-Tag:noindex
X-PUBLISHED-TTL:PT1H
BEGIN:VTIMEZONE
TZID:Europe/Madrid
BEGIN:DAYLIGHT
TZOFFSETFROM:+0100
TZOFFSETTO:+0200
TZNAME:CEST
DTSTART:20240331T010000
END:DAYLIGHT
BEGIN:STANDARD
TZOFFSETFROM:+0200
TZOFFSETTO:+0100
TZNAME:CET
DTSTART:20241027T010000
END:STANDARD
BEGIN:DAYLIGHT
TZOFFSETFROM:+0100
TZOFFSETTO:+0200
TZNAME:CEST
DTSTART:20250330T010000
END:DAYLIGHT
BEGIN:STANDARD
TZOFFSETFROM:+0200
TZOFFSETTO:+0100
TZNAME:CET
DTSTART:20251026T010000
END:STANDARD
BEGIN:DAYLIGHT
TZOFFSETFROM:+0100
TZOFFSETTO:+0200
TZNAME:CEST
DTSTART:20260329T010000
END:DAYLIGHT
BEGIN:STANDARD
TZOFFSETFROM:+0200
TZOFFSETTO:+0100
TZNAME:CET
DTSTART:20261025T010000
END:STANDARD
END:VTIMEZONE
BEGIN:VEVENT
DTSTART;TZID=Europe/Madrid:20251025T093000
DTEND;TZID=Europe/Madrid:20251025T133000
DTSTAMP:20260426T031419
CREATED:20250921T181610Z
LAST-MODIFIED:20250924T063808Z
UID:13565-1761384600-1761399000@clubmontanerodemurcia.com
SUMMARY:INFANTIL- Parque Regional de Calblanque
DESCRIPTION:También visitaremos las dunas (algunas de ellas fósiles)\, las salinas y un pequeño estanque con anfibios. \nHORA Y LUGAR DE REUNIÓN: KFC Juan de Borbón a las 08:15.  \nhttps://maps.app.goo.gl/WaY4miUWqqidGyeh6 \nHORA Y PUNTO DE PARTIDA: El punto de inicio de la ruta es el Centro de visitantes Las Cobaticas \, a las 09:30 \n https://maps.app.goo.gl/wHdafh1G7r9226b59 \nDISTANCIA APROXIMADA: 6 km. \nDURACIÓN: 4 horas. \nDESNIVEL POSITIVO: 70 m. \nDIFICULTAD FÍSICA: BAJA (2 escala MIDE) \nDIFICULTAD TÉCNICA:BAJA (2 escala MIDE)  \nRITMO: El que marquen los niños   \nABIERTA A TODOS O SOLO SOCIOS : Para todos. Los socios tendrán preferencia. \nPLAZAS LIMITADAS: 12 niños \nOBSERVACIONES/OTROS/CARTOGRAFÍA: \nMaterial individual imprescindible:  Calzado de montaña\, ropa adecuada para ese día\, agua y  algo para que los peques piquen\, fruta\, frutos secos\, bocadillo\, etc. \nIMPRESCINDIBLE: Estar federado con la tarjeta apropiada a la actividad (A o superior)\, o seguro de día\, e inscribirse en la página web del club. Sin estos requisitos no se podrá participar. \n SOLICITAR SEGURO DE DÍA \n \n  \n \n  \n  \n 
URL:https://clubmontanerodemurcia.com/event/infantil-parque-regional-de-calblanque-2/
CATEGORIES:infantil
END:VEVENT
END:VCALENDAR