BEGIN:VCALENDAR
VERSION:2.0
PRODID:-//Club Montañero de Murcia - ECPv6.15.20//NONSGML v1.0//EN
CALSCALE:GREGORIAN
METHOD:PUBLISH
X-ORIGINAL-URL:https://clubmontanerodemurcia.com
X-WR-CALDESC:Eventos para Club Montañero de Murcia
REFRESH-INTERVAL;VALUE=DURATION:PT1H
X-Robots-Tag:noindex
X-PUBLISHED-TTL:PT1H
BEGIN:VTIMEZONE
TZID:Europe/Madrid
BEGIN:DAYLIGHT
TZOFFSETFROM:+0100
TZOFFSETTO:+0200
TZNAME:CEST
DTSTART:20240331T010000
END:DAYLIGHT
BEGIN:STANDARD
TZOFFSETFROM:+0200
TZOFFSETTO:+0100
TZNAME:CET
DTSTART:20241027T010000
END:STANDARD
BEGIN:DAYLIGHT
TZOFFSETFROM:+0100
TZOFFSETTO:+0200
TZNAME:CEST
DTSTART:20250330T010000
END:DAYLIGHT
BEGIN:STANDARD
TZOFFSETFROM:+0200
TZOFFSETTO:+0100
TZNAME:CET
DTSTART:20251026T010000
END:STANDARD
BEGIN:DAYLIGHT
TZOFFSETFROM:+0100
TZOFFSETTO:+0200
TZNAME:CEST
DTSTART:20260329T010000
END:DAYLIGHT
BEGIN:STANDARD
TZOFFSETFROM:+0200
TZOFFSETTO:+0100
TZNAME:CET
DTSTART:20261025T010000
END:STANDARD
END:VTIMEZONE
BEGIN:VEVENT
DTSTART;TZID=Europe/Madrid:20251106T200000
DTEND;TZID=Europe/Madrid:20251106T210000
DTSTAMP:20260425T215258
CREATED:20251016T130045Z
LAST-MODIFIED:20251016T130717Z
UID:13965-1762459200-1762462800@clubmontanerodemurcia.com
SUMMARY:Proyección de fotos de Colombia y Ecuador. Volcanes Amables.
DESCRIPTION:Este verano hemos subido e intentado unas cuantas cumbres de Colombia y de Ecuador que no son las habituales. Aunque el tiempo no nos acompañó\, las montañas y los paisajes son preciosos y acabamos viendo pájaros y ballenas. \n \n \n  \n 
URL:https://clubmontanerodemurcia.com/event/proyeccion-de-fotos-de-colombia-y-ecuador-volcanes-amables/
CATEGORIES:uncategorized
END:VEVENT
END:VCALENDAR